Package: MetCirc Version: 1.34.0 Command: chmod a+r MetCirc -R && E:\biocbuild\bbs-3.19-bioc\R\bin\R.exe CMD build --keep-empty-dirs --no-resave-data MetCirc StartedAt: 2024-10-16 20:11:44 -0400 (Wed, 16 Oct 2024) EndedAt: 2024-10-16 20:14:05 -0400 (Wed, 16 Oct 2024) EllapsedTime: 140.9 seconds RetCode: 0 Status: OK PackageFile: MetCirc_1.34.0.tar.gz PackageFileSize: 2.069 MiB