Package: MetCirc Version: 1.34.0 Command: /home/biocbuild/bbs-3.19-bioc/R/bin/R CMD INSTALL MetCirc StartedAt: 2024-10-16 16:18:16 -0400 (Wed, 16 Oct 2024) EndedAt: 2024-10-16 16:18:28 -0400 (Wed, 16 Oct 2024) EllapsedTime: 12.6 seconds RetCode: 0 Status: OK