Package: MetCirc Version: 1.34.0 Command: /home/biocbuild/bbs-3.19-bioc/R/bin/R CMD check --install=check:MetCirc.install-out.txt --library=/home/biocbuild/bbs-3.19-bioc/R/site-library --timings MetCirc_1.34.0.tar.gz StartedAt: 2024-10-17 02:14:04 -0400 (Thu, 17 Oct 2024) EndedAt: 2024-10-17 02:17:07 -0400 (Thu, 17 Oct 2024) EllapsedTime: 183.4 seconds RetCode: 0 Status: OK CheckDir: MetCirc.Rcheck Warnings: 0