Package: MetCirc Version: 1.34.0 Command: /Library/Frameworks/R.framework/Resources/bin/R CMD INSTALL MetCirc StartedAt: 2024-10-16 15:58:40 -0400 (Wed, 16 Oct 2024) EndedAt: 2024-10-16 15:59:10 -0400 (Wed, 16 Oct 2024) EllapsedTime: 30.1 seconds RetCode: 0 Status: OK