Package: MetCirc Version: 1.34.0 Command: /Library/Frameworks/R.framework/Resources/bin/R CMD build --keep-empty-dirs --no-resave-data MetCirc StartedAt: 2024-10-16 20:42:07 -0400 (Wed, 16 Oct 2024) EndedAt: 2024-10-16 20:44:59 -0400 (Wed, 16 Oct 2024) EllapsedTime: 171.1 seconds RetCode: 0 Status: OK PackageFile: MetCirc_1.34.0.tar.gz PackageFileSize: 2.068 MiB