Package: MetCirc Version: 1.34.0 Command: /Library/Frameworks/R.framework/Resources/bin/R CMD INSTALL MetCirc StartedAt: 2024-10-16 17:15:14 -0400 (Wed, 16 Oct 2024) EndedAt: 2024-10-16 17:15:31 -0400 (Wed, 16 Oct 2024) EllapsedTime: 16.4 seconds RetCode: 0 Status: OK