Package: MesKit Version: 1.14.0 Command: E:\biocbuild\bbs-3.19-bioc\R\bin\R.exe CMD check --no-multiarch --install=check:MesKit.install-out.txt --library=E:\biocbuild\bbs-3.19-bioc\R\library --no-vignettes --timings MesKit_1.14.0.tar.gz StartedAt: 2024-10-17 03:04:05 -0400 (Thu, 17 Oct 2024) EndedAt: 2024-10-17 03:15:28 -0400 (Thu, 17 Oct 2024) EllapsedTime: 683.4 seconds RetCode: 0 Status: WARNINGS CheckDir: MesKit.Rcheck Warnings: 1