Package: MesKit Version: 1.14.0 Command: F:\biocbuild\bbs-3.19-bioc\R\bin\R.exe CMD check --no-multiarch --install=check:MesKit.install-out.txt --library=F:\biocbuild\bbs-3.19-bioc\R\library --no-vignettes --timings MesKit_1.14.0.tar.gz StartedAt: 2024-06-27 03:21:19 -0400 (Thu, 27 Jun 2024) EndedAt: 2024-06-27 03:32:23 -0400 (Thu, 27 Jun 2024) EllapsedTime: 664.5 seconds RetCode: 0 Status: WARNINGS CheckDir: MesKit.Rcheck Warnings: 1