Package: MesKit Version: 1.14.0 Command: /home/biocbuild/bbs-3.19-bioc/R/bin/R CMD INSTALL MesKit StartedAt: 2024-10-16 16:14:22 -0400 (Wed, 16 Oct 2024) EndedAt: 2024-10-16 16:14:43 -0400 (Wed, 16 Oct 2024) EllapsedTime: 21.0 seconds RetCode: 0 Status: OK