Package: MesKit Version: 1.14.0 Command: /Library/Frameworks/R.framework/Resources/bin/R CMD INSTALL MesKit StartedAt: 2024-10-16 15:51:29 -0400 (Wed, 16 Oct 2024) EndedAt: 2024-10-16 15:52:22 -0400 (Wed, 16 Oct 2024) EllapsedTime: 53.2 seconds RetCode: 0 Status: OK