Package: MesKit Version: 1.14.0 Command: /Library/Frameworks/R.framework/Resources/bin/R CMD build --keep-empty-dirs --no-resave-data MesKit StartedAt: 2024-06-09 17:11:02 -0400 (Sun, 09 Jun 2024) EndedAt: 2024-06-09 17:12:36 -0400 (Sun, 09 Jun 2024) EllapsedTime: 93.7 seconds RetCode: 0 Status: OK PackageFile: MesKit_1.14.0.tar.gz PackageFileSize: 3.999 MiB