Package: Mergeomics Version: 1.32.0 Command: E:\biocbuild\bbs-3.19-bioc\R\bin\R.exe CMD INSTALL Mergeomics StartedAt: 2024-10-16 15:58:22 -0400 (Wed, 16 Oct 2024) EndedAt: 2024-10-16 15:59:09 -0400 (Wed, 16 Oct 2024) EllapsedTime: 46.2 seconds RetCode: 0 Status: OK