Package: Mergeomics Version: 1.32.0 Command: chmod a+r Mergeomics -R && E:\biocbuild\bbs-3.19-bioc\R\bin\R.exe CMD build --keep-empty-dirs --no-resave-data Mergeomics StartedAt: 2024-10-16 20:08:55 -0400 (Wed, 16 Oct 2024) EndedAt: 2024-10-16 20:15:24 -0400 (Wed, 16 Oct 2024) EllapsedTime: 389.0 seconds RetCode: 0 Status: OK PackageFile: Mergeomics_1.32.0.tar.gz PackageFileSize: 3.117 MiB