Package: Mergeomics Version: 1.32.0 Command: rm -rf Mergeomics.buildbin-libdir && mkdir Mergeomics.buildbin-libdir && E:\biocbuild\bbs-3.19-bioc\R\bin\R.exe CMD INSTALL --build --library=Mergeomics.buildbin-libdir Mergeomics_1.32.0.tar.gz StartedAt: 2024-10-17 08:05:58 -0400 (Thu, 17 Oct 2024) EndedAt: 2024-10-17 08:06:48 -0400 (Thu, 17 Oct 2024) EllapsedTime: 50.0 seconds RetCode: 0 Status: OK PackageFile: Mergeomics_1.32.0.zip PackageFileSize: 3.327 MiB