Package: Mergeomics Version: 1.32.0 Command: /home/biocbuild/bbs-3.19-bioc/R/bin/R CMD INSTALL Mergeomics StartedAt: 2024-10-16 15:49:09 -0400 (Wed, 16 Oct 2024) EndedAt: 2024-10-16 15:49:13 -0400 (Wed, 16 Oct 2024) EllapsedTime: 4.4 seconds RetCode: 0 Status: OK