Package: Mergeomics Version: 1.32.0 Command: /Library/Frameworks/R.framework/Resources/bin/R CMD INSTALL Mergeomics StartedAt: 2024-06-09 15:03:15 -0400 (Sun, 09 Jun 2024) EndedAt: 2024-06-09 15:03:26 -0400 (Sun, 09 Jun 2024) EllapsedTime: 11.0 seconds RetCode: 0 Status: OK