Package: Mergeomics Version: 1.32.0 Command: /Library/Frameworks/R.framework/Resources/bin/R CMD INSTALL Mergeomics StartedAt: 2024-06-09 15:01:46 -0400 (Sun, 09 Jun 2024) EndedAt: 2024-06-09 15:01:52 -0400 (Sun, 09 Jun 2024) EllapsedTime: 6.0 seconds RetCode: 0 Status: OK