Package: Mergeomics Version: 1.32.0 Maintainer: Zeyneb Kurt MaintainerEmail: zeynebkurt at gmail.com git_url: https://git.bioconductor.org/packages/Mergeomics git_branch: RELEASE_3_19 git_last_commit: 2d045ec git_last_commit_date: 2024-04-30 10:48:10 -0400 (Tue, 30 Apr 2024)