Package: Melissa Version: 1.20.0 Command: rm -rf Melissa.buildbin-libdir && mkdir Melissa.buildbin-libdir && E:\biocbuild\bbs-3.19-bioc\R\bin\R.exe CMD INSTALL --build --library=Melissa.buildbin-libdir Melissa_1.20.0.tar.gz StartedAt: 2024-10-17 08:05:54 -0400 (Thu, 17 Oct 2024) EndedAt: 2024-10-17 08:06:28 -0400 (Thu, 17 Oct 2024) EllapsedTime: 34.1 seconds RetCode: 0 Status: OK PackageFile: Melissa_1.20.0.zip PackageFileSize: 3.693 MiB