Package: Melissa Version: 1.20.0 Command: /home/biocbuild/bbs-3.19-bioc/R/bin/R CMD build --keep-empty-dirs --no-resave-data Melissa StartedAt: 2024-10-16 19:19:49 -0400 (Wed, 16 Oct 2024) EndedAt: 2024-10-16 19:22:25 -0400 (Wed, 16 Oct 2024) EllapsedTime: 156.3 seconds RetCode: 0 Status: OK PackageFile: Melissa_1.20.0.tar.gz PackageFileSize: 2.771 MiB