Package: Melissa Version: 1.20.0 Command: /Library/Frameworks/R.framework/Resources/bin/R CMD check --install=check:Melissa.install-out.txt --library=/Library/Frameworks/R.framework/Resources/library --no-vignettes --timings Melissa_1.20.0.tar.gz StartedAt: 2024-10-17 07:50:30 -0400 (Thu, 17 Oct 2024) EndedAt: 2024-10-17 08:01:27 -0400 (Thu, 17 Oct 2024) EllapsedTime: 657.3 seconds RetCode: 0 Status: OK CheckDir: Melissa.Rcheck Warnings: 0