Package: MeasurementError.cor Version: 1.76.0 Command: F:\biocbuild\bbs-3.19-bioc\R\bin\R.exe CMD check --no-multiarch --install=check:MeasurementError.cor.install-out.txt --library=F:\biocbuild\bbs-3.19-bioc\R\library --no-vignettes --timings MeasurementError.cor_1.76.0.tar.gz StartedAt: 2024-06-27 03:18:50 -0400 (Thu, 27 Jun 2024) EndedAt: 2024-06-27 03:19:18 -0400 (Thu, 27 Jun 2024) EllapsedTime: 28.0 seconds RetCode: 0 Status: OK CheckDir: MeasurementError.cor.Rcheck Warnings: 0