Package: MeasurementError.cor Version: 1.76.0 Command: rm -rf MeasurementError.cor.buildbin-libdir && mkdir MeasurementError.cor.buildbin-libdir && F:\biocbuild\bbs-3.19-bioc\R\bin\R.exe CMD INSTALL --build --library=MeasurementError.cor.buildbin-libdir MeasurementError.cor_1.76.0.tar.gz StartedAt: 2024-06-27 08:27:55 -0400 (Thu, 27 Jun 2024) EndedAt: 2024-06-27 08:28:09 -0400 (Thu, 27 Jun 2024) EllapsedTime: 14.6 seconds RetCode: 0 Status: OK PackageFile: MeasurementError.cor_1.76.0.zip PackageFileSize: 74.29 KiB