Package: MeasurementError.cor Version: 1.76.0 Command: /Library/Frameworks/R.framework/Resources/bin/R CMD check --install=check:MeasurementError.cor.install-out.txt --library=/Library/Frameworks/R.framework/Resources/library --no-vignettes --timings MeasurementError.cor_1.76.0.tar.gz StartedAt: 2024-10-17 07:47:12 -0400 (Thu, 17 Oct 2024) EndedAt: 2024-10-17 07:47:58 -0400 (Thu, 17 Oct 2024) EllapsedTime: 45.7 seconds RetCode: 0 Status: OK CheckDir: MeasurementError.cor.Rcheck Warnings: 0