Package: MeasurementError.cor Version: 1.76.0 Command: /Library/Frameworks/R.framework/Resources/bin/R CMD build --keep-empty-dirs --no-resave-data MeasurementError.cor StartedAt: 2024-10-16 20:35:57 -0400 (Wed, 16 Oct 2024) EndedAt: 2024-10-16 20:36:26 -0400 (Wed, 16 Oct 2024) EllapsedTime: 28.9 seconds RetCode: 0 Status: OK PackageFile: MeasurementError.cor_1.76.0.tar.gz PackageFileSize: 150.7 KiB