Package: MeasurementError.cor Version: 1.76.0 Command: /home/biocbuild/R/R-beta-2024-04-15_r86425/bin/R CMD INSTALL MeasurementError.cor StartedAt: 2024-05-08 20:07:09 -0000 (Wed, 08 May 2024) EndedAt: 2024-05-08 20:07:20 -0000 (Wed, 08 May 2024) EllapsedTime: 11.4 seconds RetCode: 0 Status: OK