Package: MeasurementError.cor Version: 1.76.0 Command: /home/biocbuild/R/R-beta-2024-04-15_r86425/bin/R CMD build --keep-empty-dirs --no-resave-data MeasurementError.cor StartedAt: 2024-05-09 01:25:06 -0000 (Thu, 09 May 2024) EndedAt: 2024-05-09 01:25:12 -0000 (Thu, 09 May 2024) EllapsedTime: 6.0 seconds RetCode: 0 Status: OK PackageFile: MeasurementError.cor_1.76.0.tar.gz PackageFileSize: 145.5 KiB