Package: MeasurementError.cor Version: 1.76.0 Command: /Library/Frameworks/R.framework/Resources/bin/R CMD check --install=check:MeasurementError.cor.install-out.txt --library=/Library/Frameworks/R.framework/Resources/library --no-vignettes --timings MeasurementError.cor_1.76.0.tar.gz StartedAt: 2024-06-10 20:53:11 -0400 (Mon, 10 Jun 2024) EndedAt: 2024-06-10 20:53:58 -0400 (Mon, 10 Jun 2024) EllapsedTime: 46.7 seconds RetCode: 0 Status: OK CheckDir: MeasurementError.cor.Rcheck Warnings: 0