Package: MeasurementError.cor Version: 1.76.0 Command: /Library/Frameworks/R.framework/Resources/bin/R CMD build --keep-empty-dirs --no-resave-data MeasurementError.cor StartedAt: 2024-10-17 03:41:08 -0400 (Thu, 17 Oct 2024) EndedAt: 2024-10-17 03:41:22 -0400 (Thu, 17 Oct 2024) EllapsedTime: 13.7 seconds RetCode: 0 Status: OK PackageFile: MeasurementError.cor_1.76.0.tar.gz PackageFileSize: 150.7 KiB