Package: MeSHDbi Version: 1.40.0 Command: E:\biocbuild\bbs-3.19-bioc\R\bin\R.exe CMD INSTALL MeSHDbi StartedAt: 2024-10-16 16:16:06 -0400 (Wed, 16 Oct 2024) EndedAt: 2024-10-16 16:16:31 -0400 (Wed, 16 Oct 2024) EllapsedTime: 24.6 seconds RetCode: 0 Status: OK