Package: MeSHDbi Version: 1.40.0 Command: chmod a+r MeSHDbi -R && E:\biocbuild\bbs-3.19-bioc\R\bin\R.exe CMD build --keep-empty-dirs --no-resave-data MeSHDbi StartedAt: 2024-10-16 20:09:03 -0400 (Wed, 16 Oct 2024) EndedAt: 2024-10-16 20:09:28 -0400 (Wed, 16 Oct 2024) EllapsedTime: 24.9 seconds RetCode: 0 Status: OK PackageFile: MeSHDbi_1.40.0.tar.gz PackageFileSize: 51.89 KiB