Package: MeSHDbi Version: 1.40.0 Command: rm -rf MeSHDbi.buildbin-libdir && mkdir MeSHDbi.buildbin-libdir && E:\biocbuild\bbs-3.19-bioc\R\bin\R.exe CMD INSTALL --build --library=MeSHDbi.buildbin-libdir MeSHDbi_1.40.0.tar.gz StartedAt: 2024-10-17 08:06:00 -0400 (Thu, 17 Oct 2024) EndedAt: 2024-10-17 08:06:30 -0400 (Thu, 17 Oct 2024) EllapsedTime: 30.3 seconds RetCode: 0 Status: OK PackageFile: MeSHDbi_1.40.0.zip PackageFileSize: 466.9 KiB