Package: MeSHDbi Version: 1.40.0 Command: rm -rf MeSHDbi.buildbin-libdir && mkdir MeSHDbi.buildbin-libdir && F:\biocbuild\bbs-3.19-bioc\R\bin\R.exe CMD INSTALL --build --library=MeSHDbi.buildbin-libdir MeSHDbi_1.40.0.tar.gz StartedAt: 2024-06-27 08:28:13 -0400 (Thu, 27 Jun 2024) EndedAt: 2024-06-27 08:28:34 -0400 (Thu, 27 Jun 2024) EllapsedTime: 20.5 seconds RetCode: 0 Status: OK PackageFile: MeSHDbi_1.40.0.zip PackageFileSize: 466 KiB