Package: MeSHDbi Version: 1.40.0 Command: /home/biocbuild/bbs-3.19-bioc/R/bin/R CMD INSTALL MeSHDbi StartedAt: 2024-10-16 16:02:29 -0400 (Wed, 16 Oct 2024) EndedAt: 2024-10-16 16:02:41 -0400 (Wed, 16 Oct 2024) EllapsedTime: 12.5 seconds RetCode: 0 Status: OK