Package: MeSHDbi Version: 1.40.0 Command: /home/biocbuild/bbs-3.19-bioc/R/bin/R CMD build --keep-empty-dirs --no-resave-data MeSHDbi StartedAt: 2024-10-16 19:20:10 -0400 (Wed, 16 Oct 2024) EndedAt: 2024-10-16 19:20:25 -0400 (Wed, 16 Oct 2024) EllapsedTime: 15.0 seconds RetCode: 0 Status: OK PackageFile: MeSHDbi_1.40.0.tar.gz PackageFileSize: 51.27 KiB