Package: MeSHDbi Version: 1.40.0 Command: /home/biocbuild/R/R-beta-2024-04-15_r86425/bin/R CMD build --keep-empty-dirs --no-resave-data MeSHDbi StartedAt: 2024-05-09 01:26:33 -0000 (Thu, 09 May 2024) EndedAt: 2024-05-09 01:26:51 -0000 (Thu, 09 May 2024) EllapsedTime: 18.0 seconds RetCode: 0 Status: OK PackageFile: MeSHDbi_1.40.0.tar.gz PackageFileSize: 114.4 KiB