Package: MeSHDbi Version: 1.40.0 Command: rm -rf MeSHDbi.buildbin-libdir && mkdir MeSHDbi.buildbin-libdir && /Users/biocbuild/BBS/utils/build-universal.sh MeSHDbi_1.40.0.tar.gz /Library/Frameworks/R.framework/Resources/bin/R MeSHDbi.buildbin-libdir StartedAt: 2024-06-11 11:57:03 -0400 (Tue, 11 Jun 2024) EndedAt: 2024-06-11 11:57:29 -0400 (Tue, 11 Jun 2024) EllapsedTime: 26.4 seconds RetCode: 0 Status: OK PackageFile: MeSHDbi_1.40.0.tgz PackageFileSize: 543.9 KiB