Package: MeSHDbi Version: 1.40.0 Command: rm -rf MeSHDbi.buildbin-libdir && mkdir MeSHDbi.buildbin-libdir && /Users/biocbuild/BBS/utils/build-universal.sh MeSHDbi_1.40.0.tar.gz /Library/Frameworks/R.framework/Resources/bin/R MeSHDbi.buildbin-libdir StartedAt: 2024-10-18 19:18:23 -0400 (Fri, 18 Oct 2024) EndedAt: 2024-10-18 19:18:43 -0400 (Fri, 18 Oct 2024) EllapsedTime: 19.6 seconds RetCode: 0 Status: OK PackageFile: MeSHDbi_1.40.0.tgz PackageFileSize: 544.3 KiB