Package: MeSHDbi Version: 1.40.0 Maintainer: Koki Tsuyuzaki MaintainerEmail: k.t.the-answer at hotmail.co.jp git_url: https://git.bioconductor.org/packages/MeSHDbi git_branch: RELEASE_3_19 git_last_commit: e6c2744 git_last_commit_date: 2024-04-30 10:36:22 -0400 (Tue, 30 Apr 2024)