Package: MatrixRider Version: 1.36.0 Command: chmod a+r MatrixRider -R && F:\biocbuild\bbs-3.19-bioc\R\bin\R.exe CMD build --keep-empty-dirs --no-resave-data MatrixRider StartedAt: 2024-06-26 19:50:36 -0400 (Wed, 26 Jun 2024) EndedAt: 2024-06-26 19:51:54 -0400 (Wed, 26 Jun 2024) EllapsedTime: 78.5 seconds RetCode: 0 Status: OK PackageFile: MatrixRider_1.36.0.tar.gz PackageFileSize: 265.3 KiB