Package: MatrixRider Version: 1.36.0 Command: /Library/Frameworks/R.framework/Resources/bin/R CMD build --keep-empty-dirs --no-resave-data MatrixRider StartedAt: 2024-10-16 20:32:41 -0400 (Wed, 16 Oct 2024) EndedAt: 2024-10-16 20:35:24 -0400 (Wed, 16 Oct 2024) EllapsedTime: 162.9 seconds RetCode: 0 Status: OK PackageFile: MatrixRider_1.36.0.tar.gz PackageFileSize: 264.2 KiB