Package: MatrixRider Version: 1.36.0 Command: /Library/Frameworks/R.framework/Resources/bin/R CMD build --keep-empty-dirs --no-resave-data MatrixRider StartedAt: 2024-06-09 17:09:00 -0400 (Sun, 09 Jun 2024) EndedAt: 2024-06-09 17:10:08 -0400 (Sun, 09 Jun 2024) EllapsedTime: 67.4 seconds RetCode: 0 Status: OK PackageFile: MatrixRider_1.36.0.tar.gz PackageFileSize: 264.4 KiB