Package: MatrixRider Version: 1.36.0 Command: /Library/Frameworks/R.framework/Resources/bin/R CMD check --install=check:MatrixRider.install-out.txt --library=/Library/Frameworks/R.framework/Resources/library --no-vignettes --timings MatrixRider_1.36.0.tar.gz StartedAt: 2024-06-10 20:41:40 -0400 (Mon, 10 Jun 2024) EndedAt: 2024-06-10 20:50:29 -0400 (Mon, 10 Jun 2024) EllapsedTime: 529.4 seconds RetCode: 0 Status: WARNINGS CheckDir: MatrixRider.Rcheck Warnings: 1