Package: MatrixRider Version: 1.36.0 Command: rm -rf MatrixRider.buildbin-libdir && mkdir MatrixRider.buildbin-libdir && /Users/biocbuild/BBS/utils/build-universal.sh MatrixRider_1.36.0.tar.gz /Library/Frameworks/R.framework/Resources/bin/R MatrixRider.buildbin-libdir StartedAt: 2024-10-18 19:15:13 -0400 (Fri, 18 Oct 2024) EndedAt: 2024-10-18 19:16:18 -0400 (Fri, 18 Oct 2024) EllapsedTime: 64.6 seconds RetCode: 0 Status: OK PackageFile: MatrixRider_1.36.0.tgz PackageFileSize: 284.1 KiB