Package: MatrixQCvis Version: 1.12.0 Command: chmod a+r MatrixQCvis -R && F:\biocbuild\bbs-3.19-bioc\R\bin\R.exe CMD build --keep-empty-dirs --no-resave-data MatrixQCvis StartedAt: 2024-06-26 19:50:35 -0400 (Wed, 26 Jun 2024) EndedAt: 2024-06-26 19:54:32 -0400 (Wed, 26 Jun 2024) EllapsedTime: 237.5 seconds RetCode: 0 Status: OK PackageFile: MatrixQCvis_1.12.0.tar.gz PackageFileSize: 4.02 MiB