Package: MatrixQCvis Version: 1.12.0 Command: /Library/Frameworks/R.framework/Resources/bin/R CMD check --install=check:MatrixQCvis.install-out.txt --library=/Library/Frameworks/R.framework/Resources/library --no-vignettes --timings MatrixQCvis_1.12.0.tar.gz StartedAt: 2024-10-17 07:41:44 -0400 (Thu, 17 Oct 2024) EndedAt: 2024-10-17 07:52:32 -0400 (Thu, 17 Oct 2024) EllapsedTime: 647.2 seconds RetCode: 0 Status: OK CheckDir: MatrixQCvis.Rcheck Warnings: 0