Package: MatrixQCvis Version: 1.12.0 Command: rm -rf MatrixQCvis.buildbin-libdir && mkdir MatrixQCvis.buildbin-libdir && /Users/biocbuild/BBS/utils/build-universal.sh MatrixQCvis_1.12.0.tar.gz /Library/Frameworks/R.framework/Resources/bin/R MatrixQCvis.buildbin-libdir StartedAt: 2024-06-10 00:25:26 -0400 (Mon, 10 Jun 2024) EndedAt: 2024-06-10 00:26:19 -0400 (Mon, 10 Jun 2024) EllapsedTime: 53.1 seconds RetCode: 0 Status: OK PackageFile: MatrixQCvis_1.12.0.tgz PackageFileSize: 5.013 MiB