Package: MatrixQCvis Version: 1.12.0 Command: rm -rf MatrixQCvis.buildbin-libdir && mkdir MatrixQCvis.buildbin-libdir && /Users/biocbuild/BBS/utils/build-universal.sh MatrixQCvis_1.12.0.tar.gz /Library/Frameworks/R.framework/Resources/bin/R MatrixQCvis.buildbin-libdir StartedAt: 2024-10-18 19:15:09 -0400 (Fri, 18 Oct 2024) EndedAt: 2024-10-18 19:16:03 -0400 (Fri, 18 Oct 2024) EllapsedTime: 54.3 seconds RetCode: 0 Status: OK PackageFile: MatrixQCvis_1.12.0.tgz PackageFileSize: 5.015 MiB