Package: MatrixGenerics Version: 1.16.0 Command: E:\biocbuild\bbs-3.19-bioc\R\bin\R.exe CMD INSTALL MatrixGenerics StartedAt: 2024-10-16 16:02:47 -0400 (Wed, 16 Oct 2024) EndedAt: 2024-10-16 16:05:01 -0400 (Wed, 16 Oct 2024) EllapsedTime: 135.0 seconds RetCode: 0 Status: OK