Package: MatrixGenerics Version: 1.16.0 Command: E:\biocbuild\bbs-3.19-bioc\R\bin\R.exe CMD check --no-multiarch --install=check:MatrixGenerics.install-out.txt --library=E:\biocbuild\bbs-3.19-bioc\R\library --no-vignettes --timings MatrixGenerics_1.16.0.tar.gz StartedAt: 2024-10-17 02:57:37 -0400 (Thu, 17 Oct 2024) EndedAt: 2024-10-17 02:58:16 -0400 (Thu, 17 Oct 2024) EllapsedTime: 39.6 seconds RetCode: 0 Status: OK CheckDir: MatrixGenerics.Rcheck Warnings: 0